BEGIN:VCALENDAR
VERSION:2.0
PRODID:-//Freud Museum London - ECPv5.8.1//NONSGML v1.0//EN
CALSCALE:GREGORIAN
METHOD:PUBLISH
X-WR-CALNAME:Freud Museum London
X-ORIGINAL-URL:https://www.freud.org.uk
X-WR-CALDESC:Events for Freud Museum London
BEGIN:VTIMEZONE
TZID:Europe/Paris
BEGIN:DAYLIGHT
TZOFFSETFROM:+0100
TZOFFSETTO:+0200
TZNAME:CEST
DTSTART:20210328T010000
END:DAYLIGHT
BEGIN:STANDARD
TZOFFSETFROM:+0200
TZOFFSETTO:+0100
TZNAME:CET
DTSTART:20211031T010000
END:STANDARD
END:VTIMEZONE
BEGIN:VEVENT
DTSTART;TZID=Europe/Paris:20210620T140000
DTEND;TZID=Europe/Paris:20210621T170000
DTSTAMP:20210813T022623
CREATED:20210421T122204Z
LAST-MODIFIED:20210614T114938Z
UID:9719-1624197600-1624294800@www.freud.org.uk
SUMMARY:PROJECTIONS: Psychoanalysing Ontological Films [Livestream/Recording]
DESCRIPTION:All attendees will be sent a unique link to join the live event and the recording 24 hours after the event\, available for 1 month. It will take place over 2 days: Sunday 20th & Monday 21st June 2021\, 2pm-5pm BST on each day. Please check the time difference if you are not in the same time zone as London.  \n  \nOntology is the branch of philosophy relating to concepts such as existence\, becoming\, and reality; it is sometimes referred to as the “science of being”\, and is classified under metaphysics. Cinema is often relied upon to approximate the stranger elements of consciousness\, memory\, time\, and identity – all of which contribute to the mystery of ontological phenomena. \nIn this course\, we will examine films from the last two decades that engage with ontological themes\, centered on thought experiments that break the boundaries of what is possible in the world as we know it. Within a psychoanalytic framework\, we will investigate the underlying preoccupations and fascinating implications of what are affectionately referred to as “mindfuck movies”. \n  \nAdvance viewing is optional\, brief film scenes will be shown during the course. Graphic imagery will be presented\, viewer discretion is advised. \nPART 1: TIME \n\nThe Man From Earth (2007) dir. Richard Schenkman\nTimecrimes (2007) dir. Nacho Vigalondo\nPredestination (2014) dirs. Michael Spierig\, Peter Spierig\nRememory (2018) dir. Mark Palansky\nDaniel Isn’t Real (2019) dir. Adam Egypt Mortimer\n\nPART 2: REALITY \n\n\nFermat’s Room (2007) dirs. Luis Piedrahita\, Rodrigo Sopeña\n\nExam (2009) dir. Stuart Hazeldine\nShutter Island (2010) dir. Martin Scorsese\nLimitless (2011) dir. Neil Burger\nThe Dead Center (2018) dir. Billy Senese\n\n  \nPROJECTIONS is psychoanalysis for film interpretation. PROJECTIONS empowers film spectators to express subjective associations they consider to be meaningful. Expertise in psychoanalytic theory is not necessary – the only prerequisite is the desire to enter and inhabit the imaginary world of film\, which is itself a psychoanalytic act. MARY WILD\, a Freudian cinephile from Montreal\, is the creator of PROJECTIONS \n  \nBURSARY – There are a limited number of bursary places available for £15. Priority will be given to UK unemployed and PIP/ESA claimants. Please click here to apply.
URL:https://www.freud.org.uk/event/ontological-films/
LOCATION:Online
CATEGORIES:Courses
ATTACH;FMTTYPE=image/jpeg:https://www.freud.org.uk/wp-content/uploads/2021/04/The-Dead-Center.jpg
END:VEVENT
END:VCALENDAR